BEGIN:VCALENDAR
VERSION:2.0
PRODID:-//demosphere.net//NONSGML kigkonsult.se iCalcreator 2.22.1//
METHOD:REQUEST
X-WR-TIMEZONE:Europe/Athens
BEGIN:VEVENT
UID:https://thessaloniki.kinimatorama.net/event/100379
DTSTAMP:20180926T160000Z
DESCRIPTION:περισσότερες πληροφορίες: https://thessaloniki.kinimatorama.net
 /event/100379 
DTSTART:20180926T160000Z
DTEND:20180926T170000Z
GEO:+40.633903;+22.95648
LOCATION:Θεσσαλονίκη\, \nΣχολή Θετικών Επιστημών (ΣΘΕ) ΑΠΘ
SUMMARY:Ιδρυτικο κειμενο Pueblo και καλεσμα σε συνελευση
URL:https://thessaloniki.kinimatorama.net/event/100379
END:VEVENT
END:VCALENDAR
