BEGIN:VCALENDAR
VERSION:2.0
PRODID:-//demosphere.net//NONSGML kigkonsult.se iCalcreator 2.22.1//
METHOD:REQUEST
X-WR-TIMEZONE:Europe/Athens
BEGIN:VEVENT
UID:https://thessaloniki.kinimatorama.net/event/100385
DTSTAMP:20180918T170000Z
DESCRIPTION:περισσότερες πληροφορίες: https://thessaloniki.kinimatorama.net
 /event/100385 
DTSTART:20180918T170000Z
DTEND:20180918T180000Z
GEO:+39.555039;+21.767766
LOCATION:Τρίκαλα\, \nΠλατεία Ρήγα Φεραίου
SUMMARY:Αντιφασιστική συγκέντρωση-πορεία για τα 5 χρόνια από τη δολοφονία τ
 ου Π. Φύσσα
URL:https://thessaloniki.kinimatorama.net/event/100385
END:VEVENT
END:VCALENDAR
