BEGIN:VCALENDAR
VERSION:2.0
PRODID:-//demosphere.net//NONSGML kigkonsult.se iCalcreator 2.22.1//
METHOD:REQUEST
X-WR-TIMEZONE:Europe/Athens
BEGIN:VEVENT
UID:https://thessaloniki.kinimatorama.net/event/100598
DTSTAMP:20180926T060000Z
DESCRIPTION:περισσότερες πληροφορίες: https://thessaloniki.kinimatorama.net
 /event/100598 
DTSTART:20180926T060000Z
DTEND:20180926T070000Z
GEO:+37.995376;+23.743086
LOCATION:Αθήνα\, \nΔικαστήρια Ευελπίδων
SUMMARY:Συγκέντρωση για τη δολοφονία του Ζακ Κωστόπουλου
URL:https://thessaloniki.kinimatorama.net/event/100598
END:VEVENT
END:VCALENDAR
