BEGIN:VCALENDAR
VERSION:2.0
PRODID:-//demosphere.net//NONSGML kigkonsult.se iCalcreator 2.22.1//
METHOD:REQUEST
X-WR-TIMEZONE:Europe/Athens
BEGIN:VEVENT
UID:https://thessaloniki.kinimatorama.net/event/100611
DTSTAMP:20180927T060000Z
DESCRIPTION:περισσότερες πληροφορίες: https://thessaloniki.kinimatorama.net
 /event/100611 
DTSTART:20180927T060000Z
DTEND:20180927T070000Z
GEO:+37.995376;+23.743086
LOCATION:Αθήνα\, \nΔικαστήρια Ευελπίδων
SUMMARY:Κάλεσμα αλληλεγγύης στους 4 συλληφθέντες της 24/2/18
URL:https://thessaloniki.kinimatorama.net/event/100611
END:VEVENT
END:VCALENDAR
