BEGIN:VCALENDAR
VERSION:2.0
PRODID:-//demosphere.net//NONSGML kigkonsult.se iCalcreator 2.22.1//
METHOD:REQUEST
X-WR-TIMEZONE:Europe/Athens
BEGIN:VEVENT
UID:https://thessaloniki.kinimatorama.net/event/101240
DTSTAMP:20181027T110000Z
DESCRIPTION:περισσότερες πληροφορίες: https://thessaloniki.kinimatorama.net
 /event/101240 
DTSTART:20181027T110000Z
DTEND:20181027T120000Z
GEO:+37.960728;+23.75523
LOCATION:Βύρωνας\, \nΚοινωνικό Πολιτιστικό Κέντρο Βύρωνα \n'Λαμπηδόνα' \nΆλ
 σος Αγ.Τριάδας \nπρόσβαση: 11(24ωρο)\,203\,204 \nστάση ΑΓΟΡΑ ΒΥΡΩΝΑ
SUMMARY:Κουζίνα κοινωνικής αλληλεγγύης
URL:https://thessaloniki.kinimatorama.net/event/101240
END:VEVENT
END:VCALENDAR
