BEGIN:VCALENDAR
VERSION:2.0
PRODID:-//demosphere.net//NONSGML kigkonsult.se iCalcreator 2.22.1//
METHOD:REQUEST
X-WR-TIMEZONE:Europe/Athens
BEGIN:VEVENT
UID:https://thessaloniki.kinimatorama.net/event/101486
DTSTAMP:20181025T060000Z
DESCRIPTION:περισσότερες πληροφορίες: https://thessaloniki.kinimatorama.net
 /event/101486 
DTSTART:20181025T060000Z
DTEND:20181025T070000Z
GEO:+40.639326;+22.932823
LOCATION:Θεσσαλονίκη\, \nΔικαστήρια Θεσσαλονίκης
SUMMARY:Κάλεσμα αλληλεγγύης στους συλληφθέντες της 19/3/2017
URL:https://thessaloniki.kinimatorama.net/event/101486
END:VEVENT
END:VCALENDAR
