BEGIN:VCALENDAR
VERSION:2.0
PRODID:-//demosphere.net//NONSGML kigkonsult.se iCalcreator 2.22.1//
METHOD:REQUEST
X-WR-TIMEZONE:Europe/Athens
BEGIN:VEVENT
UID:https://thessaloniki.kinimatorama.net/event/101576
DTSTAMP:20181115T090000Z
DESCRIPTION:περισσότερες πληροφορίες: https://thessaloniki.kinimatorama.net
 /event/101576 
DTSTART:20181115T090000Z
DTEND:20181115T100000Z
GEO:+40.639326;+22.932823
LOCATION:Θεσσαλονίκη\, \nΔικαστήρια Θεσσαλονίκης
SUMMARY:Μπλοκάρουμε τον πλειστηριασμό της ΒΙΟΜΕ
URL:https://thessaloniki.kinimatorama.net/event/101576
END:VEVENT
END:VCALENDAR
