BEGIN:VCALENDAR
VERSION:2.0
PRODID:-//demosphere.net//NONSGML kigkonsult.se iCalcreator 2.22.1//
METHOD:REQUEST
X-WR-TIMEZONE:Europe/Athens
BEGIN:VEVENT
UID:https://thessaloniki.kinimatorama.net/event/101755
DTSTAMP:20181031T070000Z
DESCRIPTION:περισσότερες πληροφορίες: https://thessaloniki.kinimatorama.net
 /event/101755 
DTSTART:20181031T070000Z
DTEND:20181031T080000Z
GEO:+40.639326;+22.932823
LOCATION:Θεσσαλονίκη\, \nΔικαστήρια Θεσσαλονίκης
SUMMARY:Εκδίκαση μήνυσης συναδέλφου εναντίον μετόχου στα Yes stores
URL:https://thessaloniki.kinimatorama.net/event/101755
END:VEVENT
END:VCALENDAR
