BEGIN:VCALENDAR
VERSION:2.0
PRODID:-//demosphere.net//NONSGML kigkonsult.se iCalcreator 2.22.1//
METHOD:REQUEST
X-WR-TIMEZONE:Europe/Athens
BEGIN:VEVENT
UID:https://thessaloniki.kinimatorama.net/event/102749
DTSTAMP:20181123T120000Z
DESCRIPTION:περισσότερες πληροφορίες: https://thessaloniki.kinimatorama.net
 /event/102749 
DTSTART:20181123T120000Z
DTEND:20181123T130000Z
GEO:+40.633903;+22.95648
LOCATION:Θεσσαλονίκη\, \nΣχολή Θετικών Επιστημών (ΣΘΕ) ΑΠΘ
SUMMARY:Πορεία ενάντια στα κλειδώματα για την υπεράσπιση του ασύλου
URL:https://thessaloniki.kinimatorama.net/event/102749
END:VEVENT
END:VCALENDAR
