BEGIN:VCALENDAR
VERSION:2.0
PRODID:-//demosphere.net//NONSGML kigkonsult.se iCalcreator 2.22.1//
METHOD:REQUEST
X-WR-TIMEZONE:Europe/Athens
BEGIN:VEVENT
UID:https://thessaloniki.kinimatorama.net/event/103335
DTSTAMP:20181206T170000Z
DESCRIPTION:περισσότερες πληροφορίες: https://thessaloniki.kinimatorama.net
 /event/103335 
DTSTART:20181206T170000Z
DTEND:20181206T180000Z
GEO:+39.555039;+21.767766
LOCATION:Τρίκαλα\, \nΠλατεία Ρήγα Φεραίου
SUMMARY:Συγκέντρωση και πορεία για τον Αλέξανδρο Γρηγορόπουλο
URL:https://thessaloniki.kinimatorama.net/event/103335
END:VEVENT
END:VCALENDAR
