BEGIN:VCALENDAR
VERSION:2.0
PRODID:-//demosphere.net//NONSGML kigkonsult.se iCalcreator 2.22.1//
METHOD:REQUEST
X-WR-TIMEZONE:Europe/Athens
BEGIN:VEVENT
UID:https://thessaloniki.kinimatorama.net/event/103619
DTSTAMP:20181213T070000Z
DESCRIPTION:περισσότερες πληροφορίες: https://thessaloniki.kinimatorama.net
 /event/103619 
DTSTART:20181213T070000Z
DTEND:20181213T080000Z
GEO:+37.995376;+23.743086
LOCATION:Αθήνα\, \nΔικαστήρια Ευελπίδων
SUMMARY:Καλεσμα αλληλεγγυης στο δικαστηριο του σωματειου
URL:https://thessaloniki.kinimatorama.net/event/103619
END:VEVENT
END:VCALENDAR
