BEGIN:VCALENDAR
VERSION:2.0
PRODID:-//demosphere.net//NONSGML kigkonsult.se iCalcreator 2.22.1//
METHOD:REQUEST
X-WR-TIMEZONE:Europe/Athens
BEGIN:VEVENT
UID:https://thessaloniki.kinimatorama.net/event/103654
DTSTAMP:20181213T190900Z
DESCRIPTION:περισσότερες πληροφορίες: https://thessaloniki.kinimatorama.net
 /event/103654 
DTSTART:20181213T190900Z
DTEND:20181213T200900Z
GEO:+40.633903;+22.95648
LOCATION:Θεσσαλονίκη\, \nΣχολή Θετικών Επιστημών (ΣΘΕ) ΑΠΘ
SUMMARY:Η Φ.Α.Κ.Ο.Φ. προβάλλει 'Tekkonkinkreet'
URL:https://thessaloniki.kinimatorama.net/event/103654
END:VEVENT
END:VCALENDAR
