BEGIN:VCALENDAR
VERSION:2.0
PRODID:-//demosphere.net//NONSGML kigkonsult.se iCalcreator 2.22.1//
METHOD:REQUEST
X-WR-TIMEZONE:Europe/Athens
BEGIN:VEVENT
UID:https://thessaloniki.kinimatorama.net/event/103888
DTSTAMP:20181220T190000Z
DESCRIPTION:περισσότερες πληροφορίες: https://thessaloniki.kinimatorama.net
 /event/103888 
DTSTART:20181220T190000Z
DTEND:20181220T200000Z
GEO:+35.517819;+24.019203
LOCATION:Χανιά\, \nΚατάληψη Rosa Nera \nΛόφος Καστέλι\, Παλιό λιμάνι
SUMMARY:Προβολή ταινίας «Happy End»
URL:https://thessaloniki.kinimatorama.net/event/103888
END:VEVENT
END:VCALENDAR
