BEGIN:VCALENDAR
VERSION:2.0
PRODID:-//demosphere.net//NONSGML kigkonsult.se iCalcreator 2.22.1//
METHOD:REQUEST
X-WR-TIMEZONE:Europe/Athens
BEGIN:VEVENT
UID:https://thessaloniki.kinimatorama.net/event/104934
DTSTAMP:20190221T173000Z
DESCRIPTION:περισσότερες πληροφορίες: https://thessaloniki.kinimatorama.net
 /event/104934 
DTSTART:20190221T173000Z
DTEND:20190221T183000Z
GEO:+40.633903;+22.95648
LOCATION:Θεσσαλονίκη\, \nΣχολή Θετικών Επιστημών (ΣΘΕ) ΑΠΘ
SUMMARY:Δημιουργία συντονιστικού για το 3ο Αυτο-οργανωμένο Thess Pride
URL:https://thessaloniki.kinimatorama.net/event/104934
END:VEVENT
END:VCALENDAR
