BEGIN:VCALENDAR
VERSION:2.0
PRODID:-//demosphere.net//NONSGML kigkonsult.se iCalcreator 2.22.1//
METHOD:REQUEST
X-WR-TIMEZONE:Europe/Athens
BEGIN:VEVENT
UID:https://thessaloniki.kinimatorama.net/event/105114
DTSTAMP:20190216T200000Z
DESCRIPTION:περισσότερες πληροφορίες: https://thessaloniki.kinimatorama.net
 /event/105114 
DTSTART:20190216T200000Z
DTEND:20190216T210000Z
GEO:+40.633903;+22.95648
LOCATION:Θεσσαλονίκη\, \nΣχολή Θετικών Επιστημών (ΣΘΕ) ΑΠΘ
SUMMARY:(αναβολή) Ρεμπέτικο οικονομικής ενίσχυσης φοιτητικής θεατρικής ομάδ
 ας Κουίντα
URL:https://thessaloniki.kinimatorama.net/event/105114
END:VEVENT
END:VCALENDAR
