BEGIN:VCALENDAR
VERSION:2.0
PRODID:-//demosphere.net//NONSGML kigkonsult.se iCalcreator 2.22.1//
METHOD:REQUEST
X-WR-TIMEZONE:Europe/Athens
BEGIN:VEVENT
UID:https://thessaloniki.kinimatorama.net/event/105192
DTSTAMP:20190211T150000Z
DESCRIPTION:περισσότερες πληροφορίες: https://thessaloniki.kinimatorama.net
 /event/105192 
DTSTART:20190211T150000Z
DTEND:20190211T160000Z
GEO:+40.633903;+22.95648
LOCATION:Θεσσαλονίκη\, \nΣχολή Θετικών Επιστημών (ΣΘΕ) ΑΠΘ
SUMMARY:Ανοιχτή Συνέλευση αλληλεγγύης στον απεργό πείνας Σπ.Χριστοδούλου
URL:https://thessaloniki.kinimatorama.net/event/105192
END:VEVENT
END:VCALENDAR
