BEGIN:VCALENDAR
VERSION:2.0
PRODID:-//demosphere.net//NONSGML kigkonsult.se iCalcreator 2.22.1//
METHOD:REQUEST
X-WR-TIMEZONE:Europe/Athens
BEGIN:VEVENT
UID:https://thessaloniki.kinimatorama.net/event/105572
DTSTAMP:20190222T183000Z
DESCRIPTION:περισσότερες πληροφορίες: https://thessaloniki.kinimatorama.net
 /event/105572 
DTSTART:20190222T183000Z
DTEND:20190222T193000Z
GEO:+40.633903;+22.95648
LOCATION:Θεσσαλονίκη\, \nΣχολή Θετικών Επιστημών (ΣΘΕ) ΑΠΘ
SUMMARY:Ανοιχτή συνέλευση Αλληλεγγύης στο Σπ. Χριστοδούλου
URL:https://thessaloniki.kinimatorama.net/event/105572
END:VEVENT
END:VCALENDAR
