BEGIN:VCALENDAR
VERSION:2.0
PRODID:-//demosphere.net//NONSGML kigkonsult.se iCalcreator 2.22.1//
METHOD:REQUEST
X-WR-TIMEZONE:Europe/Athens
BEGIN:VEVENT
UID:https://thessaloniki.kinimatorama.net/event/105718
DTSTAMP:20190304T170000Z
DESCRIPTION:περισσότερες πληροφορίες: https://thessaloniki.kinimatorama.net
 /event/105718 
DTSTART:20190304T170000Z
DTEND:20190304T180000Z
GEO:+37.970988;+23.714424
LOCATION:Αθήνα\, \nΚατάληψη ΠΙΚΠΑ \nΤιμοδήμου κ Αντωνιάδου \nΆνω Πετράλωνα 
 \n(στα Πέτρινα)
SUMMARY:Προβολές για το γυναικείο ζήτημα
URL:https://thessaloniki.kinimatorama.net/event/105718
END:VEVENT
END:VCALENDAR
