BEGIN:VCALENDAR
VERSION:2.0
PRODID:-//demosphere.net//NONSGML kigkonsult.se iCalcreator 2.22.1//
METHOD:REQUEST
X-WR-TIMEZONE:Europe/Athens
BEGIN:VEVENT
UID:https://thessaloniki.kinimatorama.net/event/105739
DTSTAMP:20190301T190000Z
DESCRIPTION:περισσότερες πληροφορίες: https://thessaloniki.kinimatorama.net
 /event/105739 
DTSTART:20190301T190000Z
DTEND:20190301T200000Z
GEO:+40.633903;+22.95648
LOCATION:Θεσσαλονίκη\, \nΣχολή Θετικών Επιστημών (ΣΘΕ) ΑΠΘ
SUMMARY:Προβολή+Μπαρ οικονομικής ενίσχυσης κινηματογραφικής ομάδας Φ.Α.Κ.Ο.
 Φ.
URL:https://thessaloniki.kinimatorama.net/event/105739
END:VEVENT
END:VCALENDAR
