BEGIN:VCALENDAR
VERSION:2.0
PRODID:-//demosphere.net//NONSGML kigkonsult.se iCalcreator 2.22.1//
METHOD:REQUEST
X-WR-TIMEZONE:Europe/Athens
BEGIN:VEVENT
UID:https://thessaloniki.kinimatorama.net/event/105912
DTSTAMP:20190301T170000Z
DESCRIPTION:περισσότερες πληροφορίες: https://thessaloniki.kinimatorama.net
 /event/105912 
DTSTART:20190301T170000Z
DTEND:20190301T180000Z
GEO:+40.633903;+22.95648
LOCATION:Θεσσαλονίκη\, \nΣχολή Θετικών Επιστημών (ΣΘΕ) ΑΠΘ
SUMMARY:(αλλαγή ώρας) Έκτακτη συνέλευση αλληλεγγύης στον απεργό πείνας Σ. Χ
 ριστοδούλου
URL:https://thessaloniki.kinimatorama.net/event/105912
END:VEVENT
END:VCALENDAR
