BEGIN:VCALENDAR
VERSION:2.0
PRODID:-//demosphere.net//NONSGML kigkonsult.se iCalcreator 2.22.1//
METHOD:REQUEST
X-WR-TIMEZONE:Europe/Athens
BEGIN:VEVENT
UID:https://thessaloniki.kinimatorama.net/event/105946
DTSTAMP:20190303T143000Z
DESCRIPTION:περισσότερες πληροφορίες: https://thessaloniki.kinimatorama.net
 /event/105946 
DTSTART:20190303T143000Z
DTEND:20190303T153000Z
GEO:+40.63339;+22.957546
LOCATION:Θεσσαλονίκη\, \nΒιολογικό ΑΠΘ
SUMMARY:Ανοιχτή συνέλευση Αλληλεγγύης στο Σπ. Χριστοδούλου
URL:https://thessaloniki.kinimatorama.net/event/105946
END:VEVENT
END:VCALENDAR
