BEGIN:VCALENDAR
VERSION:2.0
PRODID:-//demosphere.net//NONSGML kigkonsult.se iCalcreator 2.22.1//
METHOD:REQUEST
X-WR-TIMEZONE:Europe/Athens
BEGIN:VEVENT
UID:https://thessaloniki.kinimatorama.net/event/105964
DTSTAMP:20190307T163000Z
DESCRIPTION:περισσότερες πληροφορίες: https://thessaloniki.kinimatorama.net
 /event/105964 
DTSTART:20190307T163000Z
DTEND:20190307T173000Z
GEO:+40.633903;+22.95648
LOCATION:Θεσσαλονίκη\, \nΣχολή Θετικών Επιστημών (ΣΘΕ) ΑΠΘ
SUMMARY:Συντονιστικό για το 3ο Αυτο-οργανωμένο Thessaloniki Pride
URL:https://thessaloniki.kinimatorama.net/event/105964
END:VEVENT
END:VCALENDAR
