BEGIN:VCALENDAR
VERSION:2.0
PRODID:-//demosphere.net//NONSGML kigkonsult.se iCalcreator 2.22.1//
METHOD:REQUEST
X-WR-TIMEZONE:Europe/Athens
BEGIN:VEVENT
UID:https://thessaloniki.kinimatorama.net/event/1062
DTSTAMP:20091219T163000Z
DESCRIPTION:περισσότερες πληροφορίες: https://thessaloniki.kinimatorama.net
 /event/1062 
DTSTART:20091219T163000Z
DTEND:20091219T173000Z
GEO:+39.608422;+19.920036
LOCATION:Κέρκυρα\, \nΚατάληψη Ελαία \nΙνστιτούτο ελαίας \nΔαίρπφελδ & Αγίων
  Θεοδώρων \nΜον Ρεπό \nΓαρίτσα
SUMMARY:Παράσταση κουκλοθέατρου
URL:https://thessaloniki.kinimatorama.net/event/1062
END:VEVENT
END:VCALENDAR
