BEGIN:VCALENDAR
VERSION:2.0
PRODID:-//demosphere.net//NONSGML kigkonsult.se iCalcreator 2.22.1//
METHOD:REQUEST
X-WR-TIMEZONE:Europe/Athens
BEGIN:VEVENT
UID:https://thessaloniki.kinimatorama.net/event/10627
DTSTAMP:20110529T070000Z
DESCRIPTION:περισσότερες πληροφορίες: https://thessaloniki.kinimatorama.net
 /event/10627 
DTSTART:20110529T070000Z
DTEND:20110529T080000Z
GEO:+38.00095;+23.737762
LOCATION:Αθήνα\, \nΔημοτική Αγορά Κυψέλης \nΦωκίωνος Νέγρη 42
SUMMARY:3ήμερο εκδηλώσεων για τα 4 χρόνια Δημοτικής Αγοράς της Κυψέλης
URL:https://thessaloniki.kinimatorama.net/event/10627
END:VEVENT
END:VCALENDAR
