BEGIN:VCALENDAR
VERSION:2.0
PRODID:-//demosphere.net//NONSGML kigkonsult.se iCalcreator 2.22.1//
METHOD:REQUEST
X-WR-TIMEZONE:Europe/Athens
BEGIN:VEVENT
UID:https://thessaloniki.kinimatorama.net/event/107063
DTSTAMP:20190405T110000Z
DESCRIPTION:περισσότερες πληροφορίες: https://thessaloniki.kinimatorama.net
 /event/107063 
DTSTART:20190405T110000Z
DTEND:20190405T120000Z
GEO:+37.969017;+23.780422
LOCATION:Ζωγράφου\, \nΑναρχικό Στέκι Φιλοσοφικής \nαίθουσα 819\, 8ος όροφος
  \nΠανεπιστημιούπολη Ζωγράφου
SUMMARY:Αντιεκλογικό άνοιγμα Αυτοδιαχειριζόμενου στεκιού Φιλοσοφικής
URL:https://thessaloniki.kinimatorama.net/event/107063
END:VEVENT
END:VCALENDAR
