BEGIN:VCALENDAR
VERSION:2.0
PRODID:-//demosphere.net//NONSGML kigkonsult.se iCalcreator 2.22.1//
METHOD:REQUEST
X-WR-TIMEZONE:Europe/Athens
BEGIN:VEVENT
UID:https://thessaloniki.kinimatorama.net/event/1071
DTSTAMP:20091218T190000Z
DESCRIPTION:περισσότερες πληροφορίες: https://thessaloniki.kinimatorama.net
 /event/1071 
DTSTART:20091218T190000Z
DTEND:20091218T200000Z
GEO:+38.00095;+23.737762
LOCATION:Αθήνα\, \nΔημοτική Αγορά Κυψέλης \nΦωκίωνος Νέγρη 42
SUMMARY:Προβολή 'Ο Ηρακλής\, ο Αχελλώος και η γιαγιά μου' 
URL:https://thessaloniki.kinimatorama.net/event/1071
END:VEVENT
END:VCALENDAR
