BEGIN:VCALENDAR
VERSION:2.0
PRODID:-//demosphere.net//NONSGML kigkonsult.se iCalcreator 2.22.1//
METHOD:REQUEST
X-WR-TIMEZONE:Europe/Athens
BEGIN:VEVENT
UID:https://thessaloniki.kinimatorama.net/event/107391
DTSTAMP:20190418T153000Z
DESCRIPTION:περισσότερες πληροφορίες: https://thessaloniki.kinimatorama.net
 /event/107391 
DTSTART:20190418T153000Z
DTEND:20190418T163000Z
GEO:+40.633903;+22.95648
LOCATION:Θεσσαλονίκη\, \nΣχολή Θετικών Επιστημών (ΣΘΕ) ΑΠΘ
SUMMARY:Συντονιστικό για το 3ο αυτο-οργανωμένο Thessaloniki Pride
URL:https://thessaloniki.kinimatorama.net/event/107391
END:VEVENT
END:VCALENDAR
