BEGIN:VCALENDAR
VERSION:2.0
PRODID:-//demosphere.net//NONSGML kigkonsult.se iCalcreator 2.22.1//
METHOD:REQUEST
X-WR-TIMEZONE:Europe/Athens
BEGIN:VEVENT
UID:https://thessaloniki.kinimatorama.net/event/107432
DTSTAMP:20190509T190000Z
DESCRIPTION:περισσότερες πληροφορίες: https://thessaloniki.kinimatorama.net
 /event/107432 
DTSTART:20190509T190000Z
DTEND:20190509T200000Z
GEO:+40.633903;+22.95648
LOCATION:Θεσσαλονίκη\, \nΣχολή Θετικών Επιστημών (ΣΘΕ) ΑΠΘ
SUMMARY:(νέα) Cocktail Bar Στεκιού Φυσικού στον πλάτανο
URL:https://thessaloniki.kinimatorama.net/event/107432
END:VEVENT
END:VCALENDAR
