BEGIN:VCALENDAR
VERSION:2.0
PRODID:-//demosphere.net//NONSGML kigkonsult.se iCalcreator 2.22.1//
METHOD:REQUEST
X-WR-TIMEZONE:Europe/Athens
BEGIN:VEVENT
UID:https://thessaloniki.kinimatorama.net/event/107804
DTSTAMP:20190511T201500Z
DESCRIPTION:περισσότερες πληροφορίες: https://thessaloniki.kinimatorama.net
 /event/107804 
DTSTART:20190511T201500Z
DTEND:20190511T211500Z
GEO:+40.633903;+22.95648
LOCATION:Θεσσαλονίκη\, \nΣχολή Θετικών Επιστημών (ΣΘΕ) ΑΠΘ
SUMMARY:Προβολή: 'Ζ' | 7ο Φεστιβάλ Κινηματογραφικών Ομάδων
URL:https://thessaloniki.kinimatorama.net/event/107804
END:VEVENT
END:VCALENDAR
