BEGIN:VCALENDAR
VERSION:2.0
PRODID:-//demosphere.net//NONSGML kigkonsult.se iCalcreator 2.22.1//
METHOD:REQUEST
X-WR-TIMEZONE:Europe/Athens
BEGIN:VEVENT
UID:https://thessaloniki.kinimatorama.net/event/108193
DTSTAMP:20190518T200000Z
DESCRIPTION:περισσότερες πληροφορίες: https://thessaloniki.kinimatorama.net
 /event/108193 
DTSTART:20190518T200000Z
DTEND:20190518T210000Z
GEO:+40.62957;+22.964948
LOCATION:Θεσσαλονίκη\, \nΑ' φοιτητική εστία ΑΠΘ \nοδός Στίλπωνος Κυριακίδη 
 \n(πάνω από το Ιβανώφειο) \nλεωφορεία 17\,37: στάση Καυτατζόγλειο \nλεωφορ
 εία 15\,16: στάση Εστίες
SUMMARY:Cocktail Party για την οικονομική ενίσχυση της βιβλιοθήκης του στεκ
 ιού
URL:https://thessaloniki.kinimatorama.net/event/108193
END:VEVENT
END:VCALENDAR
