BEGIN:VCALENDAR
VERSION:2.0
PRODID:-//demosphere.net//NONSGML kigkonsult.se iCalcreator 2.22.1//
METHOD:REQUEST
X-WR-TIMEZONE:Europe/Athens
BEGIN:VEVENT
UID:https://thessaloniki.kinimatorama.net/event/108453
DTSTAMP:20190620T060000Z
DESCRIPTION:περισσότερες πληροφορίες: https://thessaloniki.kinimatorama.net
 /event/108453 
DTSTART:20190620T060000Z
DTEND:20190620T070000Z
GEO:+40.639326;+22.932823
LOCATION:Θεσσαλονίκη\, \nΔικαστήρια Θεσσαλονίκης
SUMMARY:[Θεσσαλονίκη] Συγκέντρωση ενάντια στον επιχειρούμενο πλειστηριασμό 
 της ΒΙΟ.ΜΕ.
URL:https://thessaloniki.kinimatorama.net/event/108453
END:VEVENT
END:VCALENDAR
