BEGIN:VCALENDAR
VERSION:2.0
PRODID:-//demosphere.net//NONSGML kigkonsult.se iCalcreator 2.22.1//
METHOD:REQUEST
X-WR-TIMEZONE:Europe/Athens
BEGIN:VEVENT
UID:https://thessaloniki.kinimatorama.net/event/109794
DTSTAMP:20190716T160000Z
DESCRIPTION:περισσότερες πληροφορίες: https://thessaloniki.kinimatorama.net
 /event/109794 
DTSTART:20190716T160000Z
DTEND:20190716T170000Z
GEO:+37.994079;+23.732083
LOCATION:Αθήνα\, \nΑΣΟΕΕ \nΠατησίων 76 (28ης Οκτωβρίου) \n(πλησίον σταθμού 
 ΗΣΑΠ Βικτώρια)
SUMMARY:Συνέλευση αλληλεγγύης στον Χ.Κορτέση και τους διωκόμενους συντρόφου
 ς
URL:https://thessaloniki.kinimatorama.net/event/109794
END:VEVENT
END:VCALENDAR
