BEGIN:VCALENDAR
VERSION:2.0
PRODID:-//demosphere.net//NONSGML kigkonsult.se iCalcreator 2.22.1//
METHOD:REQUEST
X-WR-TIMEZONE:Europe/Athens
BEGIN:VEVENT
UID:https://thessaloniki.kinimatorama.net/event/110640
DTSTAMP:20190920T060000Z
DESCRIPTION:περισσότερες πληροφορίες: https://thessaloniki.kinimatorama.net
 /event/110640 
DTSTART:20190920T060000Z
DTEND:20190920T070000Z
GEO:+40.639326;+22.932823
LOCATION:Θεσσαλονίκη\, \nΔικαστήρια Θεσσαλονίκης
SUMMARY:Συγκέντρωση αλληλεγγύης σε διωκόμενο (για δεύτερη φορά για το ίδιο 
 αδίκημα)
URL:https://thessaloniki.kinimatorama.net/event/110640
END:VEVENT
END:VCALENDAR
