BEGIN:VCALENDAR
VERSION:2.0
PRODID:-//demosphere.net//NONSGML kigkonsult.se iCalcreator 2.22.1//
METHOD:REQUEST
X-WR-TIMEZONE:Europe/Athens
BEGIN:VEVENT
UID:https://thessaloniki.kinimatorama.net/event/110664
DTSTAMP:20190920T180000Z
DESCRIPTION:περισσότερες πληροφορίες: https://thessaloniki.kinimatorama.net
 /event/110664 
DTSTART:20190920T180000Z
DTEND:20190920T190000Z
GEO:+35.517819;+24.019203
LOCATION:Χανιά\, \nΚατάληψη Rosa Nera \nΛόφος Καστέλι\, Παλιό λιμάνι
SUMMARY:Θερινό Σινεμά Rosa Nera: Σεπτέμβριος με Βρυκόλακες
URL:https://thessaloniki.kinimatorama.net/event/110664
END:VEVENT
END:VCALENDAR
