BEGIN:VCALENDAR
VERSION:2.0
PRODID:-//demosphere.net//NONSGML kigkonsult.se iCalcreator 2.22.1//
METHOD:REQUEST
X-WR-TIMEZONE:Europe/Athens
BEGIN:VEVENT
UID:https://thessaloniki.kinimatorama.net/event/111092
DTSTAMP:20191022T153000Z
DESCRIPTION:περισσότερες πληροφορίες: https://thessaloniki.kinimatorama.net
 /event/111092 
DTSTART:20191022T153000Z
DTEND:20191022T163000Z
GEO:+40.633903;+22.95648
LOCATION:Θεσσαλονίκη\, \nΣχολή Θετικών Επιστημών (ΣΘΕ) ΑΠΘ
SUMMARY:Η κρίση των ευρωπαϊκών επιστημών και η υπερβατολογική φαινομενολογί
 α
URL:https://thessaloniki.kinimatorama.net/event/111092
END:VEVENT
END:VCALENDAR
