BEGIN:VCALENDAR
VERSION:2.0
PRODID:-//demosphere.net//NONSGML kigkonsult.se iCalcreator 2.22.1//
METHOD:REQUEST
X-WR-TIMEZONE:Europe/Athens
BEGIN:VEVENT
UID:https://thessaloniki.kinimatorama.net/event/111350
DTSTAMP:20191010T100000Z
DESCRIPTION:περισσότερες πληροφορίες: https://thessaloniki.kinimatorama.net
 /event/111350 
DTSTART:20191010T100000Z
DTEND:20191010T110000Z
GEO:+40.639326;+22.932823
LOCATION:Θεσσαλονίκη\, \nΔικαστήρια Θεσσαλονίκης
SUMMARY:Μαζική παράσταση & κοινή παράδοση 'απολογητικού' υπομνήματος
URL:https://thessaloniki.kinimatorama.net/event/111350
END:VEVENT
END:VCALENDAR
