BEGIN:VCALENDAR
VERSION:2.0
PRODID:-//demosphere.net//NONSGML kigkonsult.se iCalcreator 2.22.1//
METHOD:REQUEST
X-WR-TIMEZONE:Europe/Athens
BEGIN:VEVENT
UID:https://thessaloniki.kinimatorama.net/event/111415
DTSTAMP:20191008T060000Z
DESCRIPTION:περισσότερες πληροφορίες: https://thessaloniki.kinimatorama.net
 /event/111415 
DTSTART:20191008T060000Z
DTEND:20191008T070000Z
GEO:+37.995376;+23.743086
LOCATION:Αθήνα\, \nΔικαστήρια Ευελπίδων
SUMMARY:Συγκεντρωση αλληλεγγυης στο δικαστηριο για το μαγαζι 'απ' αλλου' στ
 α εξαρχεια
URL:https://thessaloniki.kinimatorama.net/event/111415
END:VEVENT
END:VCALENDAR
