BEGIN:VCALENDAR
VERSION:2.0
PRODID:-//demosphere.net//NONSGML kigkonsult.se iCalcreator 2.22.1//
METHOD:REQUEST
X-WR-TIMEZONE:Europe/Athens
BEGIN:VEVENT
UID:https://thessaloniki.kinimatorama.net/event/111744
DTSTAMP:20191017T060000Z
DESCRIPTION:περισσότερες πληροφορίες: https://thessaloniki.kinimatorama.net
 /event/111744 
DTSTART:20191017T060000Z
DTEND:20191017T070000Z
GEO:+37.995376;+23.743086
LOCATION:Αθήνα\, \nΔικαστήρια Ευελπίδων
SUMMARY:Συγκέντρωση αλληλεγγύης των συλληφθέντων/εισσών από τον σταθμό Αθήν
 α 984
URL:https://thessaloniki.kinimatorama.net/event/111744
END:VEVENT
END:VCALENDAR
