BEGIN:VCALENDAR
VERSION:2.0
PRODID:-//demosphere.net//NONSGML kigkonsult.se iCalcreator 2.22.1//
METHOD:REQUEST
X-WR-TIMEZONE:Europe/Athens
BEGIN:VEVENT
UID:https://thessaloniki.kinimatorama.net/event/111932
DTSTAMP:20191022T182100Z
DESCRIPTION:περισσότερες πληροφορίες: https://thessaloniki.kinimatorama.net
 /event/111932 
DTSTART:20191022T182100Z
DTEND:20191022T192100Z
GEO:+40.633903;+22.95648
LOCATION:Θεσσαλονίκη\, \nΣχολή Θετικών Επιστημών (ΣΘΕ) ΑΠΘ
SUMMARY:C.U.M. & CineDroga προβάλλουν: 'You were never really here'
URL:https://thessaloniki.kinimatorama.net/event/111932
END:VEVENT
END:VCALENDAR
