BEGIN:VCALENDAR
VERSION:2.0
PRODID:-//demosphere.net//NONSGML kigkonsult.se iCalcreator 2.22.1//
METHOD:REQUEST
X-WR-TIMEZONE:Europe/Athens
BEGIN:VEVENT
UID:https://thessaloniki.kinimatorama.net/event/112040
DTSTAMP:20191029T192100Z
DESCRIPTION:περισσότερες πληροφορίες: https://thessaloniki.kinimatorama.net
 /event/112040 
DTSTART:20191029T192100Z
DTEND:20191029T202100Z
GEO:+40.633903;+22.95648
LOCATION:Θεσσαλονίκη\, \nΣχολή Θετικών Επιστημών (ΣΘΕ) ΑΠΘ
SUMMARY:Προβολή της ταινίας ''Psycho'' - 'Ψυχώ' (1960)
URL:https://thessaloniki.kinimatorama.net/event/112040
END:VEVENT
END:VCALENDAR
