BEGIN:VCALENDAR
VERSION:2.0
PRODID:-//demosphere.net//NONSGML kigkonsult.se iCalcreator 2.22.1//
METHOD:REQUEST
X-WR-TIMEZONE:Europe/Athens
BEGIN:VEVENT
UID:https://thessaloniki.kinimatorama.net/event/112563
DTSTAMP:20191107T100000Z
DESCRIPTION:περισσότερες πληροφορίες: https://thessaloniki.kinimatorama.net
 /event/112563 
DTSTART:20191107T100000Z
DTEND:20191107T110000Z
GEO:+37.995376;+23.743086
LOCATION:Αθήνα\, \nΔικαστήρια Ευελπίδων
SUMMARY:Ercan Kutlu και Mazlum Arslan: να αφεθουν αμεσως ελευθεροι
URL:https://thessaloniki.kinimatorama.net/event/112563
END:VEVENT
END:VCALENDAR
