BEGIN:VCALENDAR
VERSION:2.0
PRODID:-//demosphere.net//NONSGML kigkonsult.se iCalcreator 2.22.1//
METHOD:REQUEST
X-WR-TIMEZONE:Europe/Athens
BEGIN:VEVENT
UID:https://thessaloniki.kinimatorama.net/event/112661
DTSTAMP:20191213T213000Z
DESCRIPTION:περισσότερες πληροφορίες: https://thessaloniki.kinimatorama.net
 /event/112661 
DTSTART:20191213T213000Z
DTEND:20191213T223000Z
GEO:+40.633903;+22.95648
LOCATION:Θεσσαλονίκη\, \nΣχολή Θετικών Επιστημών (ΣΘΕ) ΑΠΘ
SUMMARY:Μπαρ οικονομικής ενίσχυσης στεκιού Φυσικού & κινηματογραφικών ομάδω
 ν ΣΘΕ
URL:https://thessaloniki.kinimatorama.net/event/112661
END:VEVENT
END:VCALENDAR
