BEGIN:VCALENDAR
VERSION:2.0
PRODID:-//demosphere.net//NONSGML kigkonsult.se iCalcreator 2.22.1//
METHOD:REQUEST
X-WR-TIMEZONE:Europe/Athens
BEGIN:VEVENT
UID:https://thessaloniki.kinimatorama.net/event/112862
DTSTAMP:20191116T120000Z
DESCRIPTION:περισσότερες πληροφορίες: https://thessaloniki.kinimatorama.net
 /event/112862 
DTSTART:20191116T120000Z
DTEND:20191116T130000Z
GEO:+40.633903;+22.95648
LOCATION:Θεσσαλονίκη\, \nΣχολή Θετικών Επιστημών (ΣΘΕ) ΑΠΘ
SUMMARY:Εκδήλωση-ανοιχτή συζήτηση για τη διεθνή συγκυρία και τις εξεγέρσεις
  στο σήμερα
URL:https://thessaloniki.kinimatorama.net/event/112862
END:VEVENT
END:VCALENDAR
