BEGIN:VCALENDAR
VERSION:2.0
PRODID:-//demosphere.net//NONSGML kigkonsult.se iCalcreator 2.22.1//
METHOD:REQUEST
X-WR-TIMEZONE:Europe/Athens
BEGIN:VEVENT
UID:https://thessaloniki.kinimatorama.net/event/113436
DTSTAMP:20191207T190000Z
DESCRIPTION:περισσότερες πληροφορίες: https://thessaloniki.kinimatorama.net
 /event/113436 
DTSTART:20191207T190000Z
DTEND:20191207T200000Z
GEO:+40.62957;+22.964948
LOCATION:Θεσσαλονίκη\, \nΑ' φοιτητική εστία ΑΠΘ \nοδός Στίλπωνος Κυριακίδη 
 \n(πάνω από το Ιβανώφειο) \nλεωφορεία 17\,37: στάση Καυτατζόγλειο \nλεωφορ
 εία 15\,16: στάση Εστίες
SUMMARY:Ρεμπέτικο γλέντι για την οικονομική ενίσχυση της Πρωτοβουλίας Εστιώ
 ν
URL:https://thessaloniki.kinimatorama.net/event/113436
END:VEVENT
END:VCALENDAR
