BEGIN:VCALENDAR
VERSION:2.0
PRODID:-//demosphere.net//NONSGML kigkonsult.se iCalcreator 2.22.1//
METHOD:REQUEST
X-WR-TIMEZONE:Europe/Athens
BEGIN:VEVENT
UID:https://thessaloniki.kinimatorama.net/event/113667
DTSTAMP:20191205T193000Z
DESCRIPTION:περισσότερες πληροφορίες: https://thessaloniki.kinimatorama.net
 /event/113667 
DTSTART:20191205T193000Z
DTEND:20191205T203000Z
GEO:+40.633903;+22.95648
LOCATION:Θεσσαλονίκη\, \nΣχολή Θετικών Επιστημών (ΣΘΕ) ΑΠΘ
SUMMARY:Εκδήλωση και προβολή ντοκυμαντέρ για την δολοφονία του Αλέξη Γρηγορ
 όπουλπυ
URL:https://thessaloniki.kinimatorama.net/event/113667
END:VEVENT
END:VCALENDAR
