BEGIN:VCALENDAR
VERSION:2.0
PRODID:-//demosphere.net//NONSGML kigkonsult.se iCalcreator 2.22.1//
METHOD:REQUEST
X-WR-TIMEZONE:Europe/Athens
BEGIN:VEVENT
UID:https://thessaloniki.kinimatorama.net/event/113882
DTSTAMP:20191213T193000Z
DESCRIPTION:περισσότερες πληροφορίες: https://thessaloniki.kinimatorama.net
 /event/113882 
DTSTART:20191213T193000Z
DTEND:20191213T203000Z
GEO:+40.633903;+22.95648
LOCATION:Θεσσαλονίκη\, \nΣχολή Θετικών Επιστημών (ΣΘΕ) ΑΠΘ
SUMMARY:Εβδομάδα Φωτιά συνεχών προβολών από τις ΦΑΚΟΦ\, CUM και CineDroga
URL:https://thessaloniki.kinimatorama.net/event/113882
END:VEVENT
END:VCALENDAR
