BEGIN:VCALENDAR
VERSION:2.0
PRODID:-//demosphere.net//NONSGML kigkonsult.se iCalcreator 2.22.1//
METHOD:REQUEST
X-WR-TIMEZONE:Europe/Athens
BEGIN:VEVENT
UID:https://thessaloniki.kinimatorama.net/event/114306
DTSTAMP:20191220T093000Z
DESCRIPTION:περισσότερες πληροφορίες: https://thessaloniki.kinimatorama.net
 /event/114306 
DTSTART:20191220T093000Z
DTEND:20191220T103000Z
GEO:+37.995376;+23.743086
LOCATION:Αθήνα\, \nΔικαστήρια Ευελπίδων
SUMMARY:Κάλεσμα αλληλεγγύης για τους συλληφθέντες/είσες της κοινότητας κατα
 λήψεων Κουκακίου
URL:https://thessaloniki.kinimatorama.net/event/114306
END:VEVENT
END:VCALENDAR
