BEGIN:VCALENDAR
VERSION:2.0
PRODID:-//demosphere.net//NONSGML kigkonsult.se iCalcreator 2.22.1//
METHOD:REQUEST
X-WR-TIMEZONE:Europe/Athens
BEGIN:VEVENT
UID:https://thessaloniki.kinimatorama.net/event/114463
DTSTAMP:20200110T200000Z
DESCRIPTION:περισσότερες πληροφορίες: https://thessaloniki.kinimatorama.net
 /event/114463 
DTSTART:20200110T200000Z
DTEND:20200110T210000Z
GEO:+40.633903;+22.95648
LOCATION:Θεσσαλονίκη\, \nΣχολή Θετικών Επιστημών (ΣΘΕ) ΑΠΘ
SUMMARY:Ρεμπέτικο/Παραδοσιακό γλέντι Στεκιού Σ.Φ. Φυσικού +Κινημ/φικών ΣΘΕ
URL:https://thessaloniki.kinimatorama.net/event/114463
END:VEVENT
END:VCALENDAR
