BEGIN:VCALENDAR
VERSION:2.0
PRODID:-//demosphere.net//NONSGML kigkonsult.se iCalcreator 2.22.1//
METHOD:REQUEST
X-WR-TIMEZONE:Europe/Athens
BEGIN:VEVENT
UID:https://thessaloniki.kinimatorama.net/event/114790
DTSTAMP:20200110T070000Z
DESCRIPTION:περισσότερες πληροφορίες: https://thessaloniki.kinimatorama.net
 /event/114790 
DTSTART:20200110T070000Z
DTEND:20200110T080000Z
GEO:+37.995376;+23.743086
LOCATION:Αθήνα\, \nΔικαστήρια Ευελπίδων
SUMMARY:Κάλεσμα αλληλεγγύης στην εκδίκαση της αγωγής της Ε. Γεμενετζή κατά 
 της ΜΚΟ «ΑΝΙΜΑ»
URL:https://thessaloniki.kinimatorama.net/event/114790
END:VEVENT
END:VCALENDAR
