BEGIN:VCALENDAR
VERSION:2.0
PRODID:-//demosphere.net//NONSGML kigkonsult.se iCalcreator 2.22.1//
METHOD:REQUEST
X-WR-TIMEZONE:Europe/Athens
BEGIN:VEVENT
UID:https://thessaloniki.kinimatorama.net/event/114804
DTSTAMP:20200113T083000Z
DESCRIPTION:περισσότερες πληροφορίες: https://thessaloniki.kinimatorama.net
 /event/114804 
DTSTART:20200113T083000Z
DTEND:20200113T093000Z
GEO:+37.995376;+23.743086
LOCATION:Αθήνα\, \nΔικαστήρια Ευελπίδων
SUMMARY:[Αθήνα] Συγκέντρωση αλληλεγγύης στα συλληφθέντα συντρόφια
URL:https://thessaloniki.kinimatorama.net/event/114804
END:VEVENT
END:VCALENDAR
